BEGIN:VCALENDAR
VERSION:2.0
PRODID:-//hacksw/handcal//NONSGML v1.0//EN
BEGIN:VEVENT
SUMMARY:Changement d'heure!!!
UID:a8369e20-8acd-4d9b-9821-541ba6a32c9c
DTSTART:20261024T220000Z
DTEND:20261025T220000Z
LOCATION:Localisation   
CATEGORIES:Sportif
STATUS:
URL;VALUE=URI:https://www.cycloclubmornacseudre.com/evenements/2026/10/25/changement-dheure-2440083
END:VEVENT
END:VCALENDAR
