BEGIN:VCALENDAR
VERSION:2.0
PRODID:-//hacksw/handcal//NONSGML v1.0//EN
BEGIN:VEVENT
SUMMARY:C9 SAINT HIPPOLYTE
UID:919686a9-8c61-4c2d-8c4d-b2d5b2e70c69
DTSTART:20261010T220000Z
DTEND:20261011T220000Z
LOCATION:Localisation   
CATEGORIES:Sportif
STATUS:
URL;VALUE=URI:https://www.cycloclubmornacseudre.com/evenements/2026/10/11/c9-saint-hippolyte-2440081
END:VEVENT
END:VCALENDAR
