BEGIN:VCALENDAR
VERSION:2.0
PRODID:-//hacksw/handcal//NONSGML v1.0//EN
BEGIN:VEVENT
SUMMARY:C8 SAINT SEURIN D'UZET
UID:c14b1f24-1de3-40d1-9514-ad14d9d9ca10
DTSTART:20261003T220000Z
DTEND:20261004T220000Z
LOCATION:Localisation   
CATEGORIES:Sportif
STATUS:
URL;VALUE=URI:https://www.cycloclubmornacseudre.com/evenements/2026/10/04/c8-saint-seurin-duzet-2440080
END:VEVENT
END:VCALENDAR
