BEGIN:VCALENDAR
VERSION:2.0
PRODID:-//hacksw/handcal//NONSGML v1.0//EN
BEGIN:VEVENT
SUMMARY:C7 SAINT SAVINIEN
UID:6c2502c1-5b3e-4d9c-a0ca-1e074932a4da
DTSTART:20260926T220000Z
DTEND:20260927T220000Z
LOCATION:Localisation   
CATEGORIES:Sportif
STATUS:
URL;VALUE=URI:https://www.cycloclubmornacseudre.com/evenements/2026/09/27/c7-saint-savinien-2440078
END:VEVENT
END:VCALENDAR
