BEGIN:VCALENDAR
VERSION:2.0
PRODID:-//hacksw/handcal//NONSGML v1.0//EN
BEGIN:VEVENT
SUMMARY:C6 MAGELOUP
UID:a37e9c7b-9108-440f-9a8e-d25044fc279f
DTSTART:20260919T220000Z
DTEND:20260920T220000Z
LOCATION:Localisation   
CATEGORIES:Sportif
STATUS:
URL;VALUE=URI:https://www.cycloclubmornacseudre.com/evenements/2026/09/20/c6-mageloup-2440077
END:VEVENT
END:VCALENDAR
