BEGIN:VCALENDAR
VERSION:2.0
PRODID:-//hacksw/handcal//NONSGML v1.0//EN
BEGIN:VEVENT
SUMMARY:C5 SAINTES
UID:fb8c8f51-5e60-4b0b-af29-400b3d2d2254
DTSTART:20260912T220000Z
DTEND:20260913T220000Z
LOCATION:Localisation   
CATEGORIES:Sportif
STATUS:
URL;VALUE=URI:https://www.cycloclubmornacseudre.com/evenements/2026/09/13/c5-saintes-2440076
END:VEVENT
END:VCALENDAR
