BEGIN:VCALENDAR
VERSION:2.0
PRODID:-//hacksw/handcal//NONSGML v1.0//EN
BEGIN:VEVENT
SUMMARY:C4 BORDS
UID:fb87506a-c8cf-49c9-b55b-83dfd2998220
DTSTART:20260905T220000Z
DTEND:20260906T220000Z
LOCATION:Localisation   
CATEGORIES:Sportif
STATUS:
URL;VALUE=URI:https://www.cycloclubmornacseudre.com/evenements/2026/09/06/c4-bords-2440075
END:VEVENT
END:VCALENDAR
