BEGIN:VCALENDAR
VERSION:2.0
PRODID:-//hacksw/handcal//NONSGML v1.0//EN
BEGIN:VEVENT
SUMMARY:C3 CHERMIGNAC
UID:2010ef3d-6177-4389-af45-6cfbd3f9abac
DTSTART:20260829T220000Z
DTEND:20260830T220000Z
LOCATION:Localisation   
CATEGORIES:Sportif
STATUS:
URL;VALUE=URI:https://www.cycloclubmornacseudre.com/evenements/2026/08/30/c3-chermignac-2440074
END:VEVENT
END:VCALENDAR
