BEGIN:VCALENDAR
VERSION:2.0
PRODID:-//hacksw/handcal//NONSGML v1.0//EN
BEGIN:VEVENT
SUMMARY:C2 SAINT GERMAIN DU SEUDRE
UID:cee30567-3697-48c2-9edd-e14dd84383ba
DTSTART:20260829T220000Z
DTEND:20260830T220000Z
LOCATION:Localisation   
CATEGORIES:Sportif
STATUS:
URL;VALUE=URI:https://www.cycloclubmornacseudre.com/evenements/2026/08/30/c2-saint-germain-du-seudre-2440073
END:VEVENT
END:VCALENDAR
