BEGIN:VCALENDAR
VERSION:2.0
PRODID:-//hacksw/handcal//NONSGML v1.0//EN
BEGIN:VEVENT
SUMMARY:C1 SOUBISE
UID:d8997eb0-62b2-4651-86a2-5876859ae503
DTSTART:20260822T220000Z
DTEND:20260823T220000Z
LOCATION:Localisation   
CATEGORIES:Sportif
STATUS:
URL;VALUE=URI:https://www.cycloclubmornacseudre.com/evenements/2026/08/23/c1-soubise-2440072
END:VEVENT
END:VCALENDAR
