BEGIN:VCALENDAR
VERSION:2.0
PRODID:-//hacksw/handcal//NONSGML v1.0//EN
BEGIN:VEVENT
SUMMARY:C10 TOUVENT
UID:334b14be-b1af-4ab8-9aae-607ce84d2a51
DTSTART:20260815T220000Z
DTEND:20260816T220000Z
LOCATION:Localisation   
CATEGORIES:Sportif
STATUS:
URL;VALUE=URI:https://www.cycloclubmornacseudre.com/evenements/2026/08/16/c10-touvent-2440071
END:VEVENT
END:VCALENDAR
