BEGIN:VCALENDAR
VERSION:2.0
PRODID:-//hacksw/handcal//NONSGML v1.0//EN
BEGIN:VEVENT
SUMMARY:C8 SAINT SEURIN D'UZET
UID:5defe87e-2cff-44af-bae1-880df2ab1a1d
DTSTART:20260808T220000Z
DTEND:20260809T220000Z
LOCATION:Localisation   
CATEGORIES:Sportif
STATUS:
URL;VALUE=URI:https://www.cycloclubmornacseudre.com/evenements/2026/08/09/c8-saint-seurin-duzet-2440070
END:VEVENT
END:VCALENDAR
