BEGIN:VCALENDAR
VERSION:2.0
PRODID:-//hacksw/handcal//NONSGML v1.0//EN
BEGIN:VEVENT
SUMMARY:C7 SAINT SAVINIEN
UID:f5c58194-d023-4bde-aa83-196f90f0e6bd
DTSTART:20260801T220000Z
DTEND:20260802T220000Z
LOCATION:Localisation   
CATEGORIES:Sportif
STATUS:
URL;VALUE=URI:https://www.cycloclubmornacseudre.com/evenements/2026/08/02/c7-saint-savinien-2440069
END:VEVENT
END:VCALENDAR
