BEGIN:VCALENDAR
VERSION:2.0
PRODID:-//hacksw/handcal//NONSGML v1.0//EN
BEGIN:VEVENT
SUMMARY:C6 MAGELOUP
UID:e17bf4c4-0bd8-43e1-87ff-bb908c14cb81
DTSTART:20260725T220000Z
DTEND:20260726T220000Z
LOCATION:Localisation   
CATEGORIES:Sportif
STATUS:
URL;VALUE=URI:https://www.cycloclubmornacseudre.com/evenements/2026/07/26/c6-mageloup-2440068
END:VEVENT
END:VCALENDAR
