BEGIN:VCALENDAR
VERSION:2.0
PRODID:-//hacksw/handcal//NONSGML v1.0//EN
BEGIN:VEVENT
SUMMARY:C5 SAINTES
UID:e56d7ddf-e130-45d1-b139-d69a37319f86
DTSTART:20260718T220000Z
DTEND:20260719T220000Z
LOCATION:Localisation   
CATEGORIES:Sportif
STATUS:
URL;VALUE=URI:https://www.cycloclubmornacseudre.com/evenements/2026/07/19/c5-saintes-2440067
END:VEVENT
END:VCALENDAR
