BEGIN:VCALENDAR
VERSION:2.0
PRODID:-//hacksw/handcal//NONSGML v1.0//EN
BEGIN:VEVENT
SUMMARY:C4 BORDS
UID:2faba6fb-6c45-40b9-a2ce-1fba680ca530
DTSTART:20260711T220000Z
DTEND:20260712T220000Z
LOCATION:Localisation   
CATEGORIES:Sportif
STATUS:
URL;VALUE=URI:https://www.cycloclubmornacseudre.com/evenements/2026/07/12/c4-bords-2440066
END:VEVENT
END:VCALENDAR
