BEGIN:VCALENDAR
VERSION:2.0
PRODID:-//hacksw/handcal//NONSGML v1.0//EN
BEGIN:VEVENT
SUMMARY:C3 CHERMIGNAC
UID:4cce88ba-1c5b-4ba1-be38-dee48816ff29
DTSTART:20260704T220000Z
DTEND:20260705T220000Z
LOCATION:Localisation   
CATEGORIES:Sportif
STATUS:
URL;VALUE=URI:https://www.cycloclubmornacseudre.com/evenements/2026/07/05/c3-chermignac-2440065
END:VEVENT
END:VCALENDAR
