BEGIN:VCALENDAR
VERSION:2.0
PRODID:-//hacksw/handcal//NONSGML v1.0//EN
BEGIN:VEVENT
SUMMARY:C2 SAINT GERMAIN DU SEUDRE
UID:53579c71-a52b-455c-ba36-e0952a70d7ee
DTSTART:20260627T220000Z
DTEND:20260628T220000Z
LOCATION:Localisation   
CATEGORIES:Sportif
STATUS:
URL;VALUE=URI:https://www.cycloclubmornacseudre.com/evenements/2026/06/28/c2-saint-germain-du-seudre-2440064
END:VEVENT
END:VCALENDAR
